Workbook

Sheet Food
A1: Brand | B1: Product | C1: Dropdown Value | D1: Weight (g) | E1: Calorie Content
A2: None | B2: None | C2: No Food Selected | D2: 0 | E2: 0
A3: Adventure Food | B3: Pasta Cheese with Mushroom | C3: =CONCATENATE(A3,"/",B3) -> Adventure Food/Pasta Cheese with Mushroom | D3: 140 | E3: 584
A4: Adventure Food | B4: Vanilla Dessert | C4: =CONCATENATE(A4,"/",B4) -> Adventure Food/Vanilla Dessert | D4: 75 | E4: 302
A5: Adventure Food | B5: Curry with Fruit & Rice | C5: =CONCATENATE(A5,"/",B5) -> Adventure Food/Curry with Fruit & Rice | D5: 150 | E5: 615
A6: Adventure Food | B6: Crunchy Muesli | C6: =CONCATENATE(A6,"/",B6) -> Adventure Food/Crunchy Muesli | D6: 155 | E6: 669
A7: Adventure Food | B7: Expedition Breakfast | C7: =CONCATENATE(A7,"/",B7) -> Adventure Food/Expedition Breakfast | D7: 150 | E7: 693
A8: Adventure Food | B8: Cashew Rice | C8: =CONCATENATE(A8,"/",B8) -> Adventure Food/Cashew Rice | D8: 155 | E8: 648
A9: Mountain House | B9: Vegetable Tikka with Rice | C9: =CONCATENATE(A9,"/",B9) -> Mountain House/Vegetable Tikka with Rice | D9: 149 | E9: 659
A10: Mountain House | B10: Custard with Mixed Fruits | C10: =CONCATENATE(A10,"/",B10) -> Mountain House/Custard with Mixed Fruits | D10: 77 | E10: 414
A11: Travellunch | B11: Pasta Bella Italia in a Cheese Sauce | C11: =CONCATENATE(A11,"/",B11) -> Travellunch/Pasta Bella Italia in a Cheese Sauce | D11: 125 | E11: 425
A12: Fuizion | B12: Pesto Tagliatelle | C12: =CONCATENATE(A12,"/",B12) -> Fuizion/Pesto Tagliatelle | D12: 110 | E12: 631
A13: Fuizion | B13: Kung Po Vegetables with Noodles | C13: =CONCATENATE(A13,"/",B13) -> Fuizion/Kung Po Vegetables with Noodles | D13: 110 | E13: 433
A14: Fuizion | B14: Kedgeree | C14: =CONCATENATE(A14,"/",B14) -> Fuizion/Kedgeree | D14: 110 | E14: 574
... A25: Protein | B25: Powder | C25: =CONCATENATE(A25,"/",B25) -> Protein/Powder | D25: 60 | E25: 220
C26: =CONCATENATE(A26,"/",B26) -> /
C27: =CONCATENATE(A27,"/",B27) -> /
C28: =CONCATENATE(A28,"/",B28) -> /
C29: =CONCATENATE(A29,"/",B29) -> /
C30: =CONCATENATE(A30,"/",B30) -> /

Sheet Kit
A1: Dropdown Value | B1: Weight (g)
A2: Sleeping Mat | B2: 205
A3: Sleeping Bag* | B3: 415
A4: Camera | B4: 140
A5: Mirror* | B5: 107
A6: Compass*
A7: Foil Blanket*
A8: Safety Pins*
A9: Knife*
A10: Tropical Disinfectant | B10: 25
A11: Toilet Roll | B11: 70
A12: Stove | B12: 13
A13: Stove Blocks | B13: 80
A14: Metal Mug | B14: 108
A15: Rucksack with bottles* | B15: 590
A16: Fork | B16: 5
A17: Sunscreen | B17: 154
A18: Venom Pump*
A19: Lip Sunscreen | B19: 93
A20: Blister Kit
A21: Toothbrush & Paste
A22: Salt Tablets* | B22: 26
A23: Passport & Money* | B23: 40
A24: Distress Flare & Route Book* | B24: 450
A25: Head torch* | B25: 94
A26: lighter* | B26: 10
A27: Nuun x 10 | B27: 39
A28: Recovery Clothing | B28: 320
A29: Total | B29: =SUM(B2:B28) -> 2984

Sheet Daily
A1: Day 1 Meal | B1: Food | C1: Weight (g) | D1: Calorie Content | E1: Day 4 Meal | F1: Food | G1: Weight (g) | H1: Calorie Content
A2: Breakfast | B2: Muesli Mix | C2: 101 | D2: 484 | E2: Breakfast | F2: Pro Bar Core Bar | G2: 89 | H2: 370
A3: Snack | B3: Pulsin Vanilla Choc Bar | C3: 53 | D3: 225 | E3: Snack | F3: Tracker Bar | G3: 28 | H3: 127
A4: Snack | B4: Brazil, Macadamia and Almond Nut Mix | C4: 99 | D4: 684 | E4: Snack | F4: Eat Natural Bar | G4: 49 | H4: 231 | J4: Won't be carrying this weight
A5: Snack | B5: Peperami | C5: 28 | D5: 126 | E5: Snack | F5: Brazil, Macadamia and Almond Nut Mix | G5: 100 | H5: 684 | J5: 2333 cal minimum x 6 day's = 14,000 Kcal.
A6: Snack | B6: Tracker Bar | C6: 28 | D6: 127 | E6: Snack | F6: Tuc cheese sandwich | G6: 75 | H6: 397 | J6: *Protein Shake 275 Kcal x 5 not included = 1375 Kcal
A7: Snack | B7: Tuna Snack | C7: 96 | D7: 140 | E7: Snack | F7: Sensations Nuts | G7: 55 | H7: 299
A8: Recovery | B8: *Protein Shake | C8: 79 | E8: Snack | F8: Peperami x 2 | G8: 55 | H8: 252
A9: Dinner | B9: Mountain Chilli Con Carne | C9: 166 | D9: 809 | E9: Recovery | F9: *Protein Shake | G9: 76
E10: Dinner | F10: Muesli Mix | G10: 100 | H10: 484
A11: Food Weight | C11: =SUM(C2:C10) -> 650 | E11: Food Weight | G11: =SUM(G2:G10) -> 627
A12: Other Kit Weight | C12: =Kit!B29 -> 2984 | E12: Other Kit Weight | G12: =Kit!B29 -> 2984
A13: Total | C13: =C12+C11+C25+C37+G11+G25+G37 -> 6789 | D13: =SUM(D2:D10) -> 2595 | E13: Total | G13: =G12+G11+G25+G37 -> 4840 | H13: =SUM(H2:H11) -> 2844
A14: Day 2 Meal | B14: Food | C14: Weight (g) | D14: Calorie Content | E14: Day 5 Meal | F14: Food | G14: Weight (g) | H14: Calorie Content
A15: Breakfast | B15: Pro Bar Core Bar | C15: 89 | D15: 370 | E15: Breakfast | F15: Flapjack | G15: 123 | H15: 461
A16: Snack | B16: Tracker Bar | C16: 27 | D16: 127 | E16: Snack | F16: Pork Scratchings | G16: 74 | H16: 432
A17: Snack | B17: Tuna Snack | C17: 96 | D17: 140 | E17: Snack | F17: Tuc cheese sandwich | G17: 50 | H17: 265 | J17: Total Weight | K17: =C13-C2 -> 6688 | L17: minus Day1 breaaky
A18: Snack | B18: Brazil, Macadamia and Almond Nut Mix | C18: 101 | D18: 684 | E18: Snack | F18: Eat Natural Bar | G18: 56 | H18: 231
A19: Snack | B19: Eat Natural Bar | C19: 50 | D19: 231 | E19: Snack | F19: Salted Nuts | G19: 103 | H19: 619
A20: Snack | B20: Peperami | C20: 28 | D20: 126 | E20: Snack | F20: 9 Bar | G20: 48 | H20: 222
A21: Snack | B21: Biltong | C21: 51 | D21: 120
A22: Recovery | B22: *Protein Shake | C22: 77 | E22: Recovery | F22: *Protein Shake | G22: 82
A23: Dinner | B23: Mac n Cheese | C23: 171 | D23: 875 | E23: Dinner | F23: Chicken Tikka | G23: 188 | H23: 907
F24: Werthers/Licorice | G24: 50
A25: Food Weight | C25: =SUM(C15:C24) -> 690 | E25: Food Weight | G25: =SUM(G15:G24) -> 774 | H25: 6
A26: Other Kit Weight | C26: =Kit!B29 -> 2984 | E26: Other Kit Weight | G26: =Kit!B29 -> 2984
A27: Total | C27: =C26+C25+C37+G11+G25+G37 -> 6139 | D27: =SUM(D15:D25) -> 2673 | E27: Total | G27: =G26+G25+G37 -> 4213 | H27: =SUM(H15:H26) -> 3143
A28: Day 3 Meal | B28: Food | C28: Weight (g) | D28: Calorie Content | E28: Day 6 Meal | F28: Food | G28: Weight (g) | H28: Calorie Content
A29: Breakfast | B29: Muesli Mix | C29: 100 | D29: 484 | E29: Breakfast | F29: Pro Bar Core Bar | G29: 85 | H29: 370
A30: Snack | B30: Tracker Bar | C30: 25 | D30: 127 | E30: Snack | F30: Pulsin Vanilla Choc Bar | G30: 52 | H30: 225
A31: Snack | B31: Brazil, Macadamia and Almond Nut Mix | C31: 100 | D31: 684 | E31: Snack | F31: Brazil, Macadamia and Almond Nut Mix | G31: 100 | H31: 684
A32: Snack | B32: Sea Salt Almonds | C32: 83 | D32: 550 | E32: Snack | F32: Peperami | G32: 28 | H32: 126
A33: Snack | B33: Peperami | C33: 28 | D33: 126 | E33: Snack | F33: Tracker Bar | G33: 28 | H33: 127
A34: Recovery | B34: *Protein Shake | C34: 80 | E34: Dinner | F34: M&M's | G34: 81 | H34: 408
A35: Dinner | B35: Mountain House Potato, Salmon & Dill | C35: 193 | D35: 1115 | E35: Snack | F35: Pretzels | G35: 81 | H35: 380
A37: Food Weight | C37: =SUM(C29:C36) -> 609 | E37: Food Weight | G37: =SUM(G29:G36) -> 455
A38: Other Kit Weight | C38: =Kit!B29 -> 2984 | E38: Other Kit Weight | G38: =Kit!B29 -> 2984
A39: Total | C39: =C38+C37+G11+G25+G37 -> 5449 | D39: =SUM(D29:D37) -> 3086 | E39: Total | G39: =G38+G37 -> 3439 | H39: =SUM(H29:H37) -> 2320
C40: Day | D40: Weight (Kg) | E40: Calorie Content
C41: 1 | D41: =C13/1000 -> 6.789 | E41: =SUM(D13+D27+D39+H13+H27+H39) -> 16661
...

Sheet Daily 7 days
A1: Day 1 Meal | B1: Food | C1: Weight (g) | D1: Calorie Content | E1: Day 4 Meal | F1: Food | G1: Weight (g) | H1: Calorie Content
A2: Breakfast | B2: Muesli Mix | C2: 101 | D2: 484 | E2: Breakfast | F2: Pro Bar Core Bar | G2: 89 | H2: 370
A3: Snack | B3: Pulsin Vanilla Choc Bar | C3: 53 | D3: 225 | E3: Snack | F3: Tracker Bar | G3: 28 | H3: 127
A4: Snack | B4: Brazil, Macadamia and Almond Nut Mix | C4: 99 | D4: 684 | E4: Snack | F4: Eat Natural Bar | G4: 49 | H4: 231
A5: Snack | B5: Peperami | C5: 28 | D5: 126 | E5: Snack | F5: Brazil, Macadamia and Almond Nut Mix | G5: 100 | H5: 684
A6: Snack | B6: Tracker Bar | C6: 28 | D6: 127 | E6: Snack | F6: Tuc cheese sandwich | G6: 75 | H6: 397
A7: Snack | B7: Tuna Snack | C7: 96 | D7: 140 | E7: Snack | F7: Sensations Nuts | G7: 55 | H7: 299
A8: Recovery | B8: *Protein Shake | C8: 79 | E8: Snack | F8: Peperami x 2 | G8: 55 | H8: 252
A9: Dinner | B9: Mountain Chilli Con Carne | C9: 166 | D9: 809 | E9: Recovery | F9: *Protein Shake | G9: 76
E10: Dinner | F10: Muesli Mix | G10: 100 | H10: 484
A11: Food Weight | C11: =SUM(C2:C9) -> 650 | E11: Food Weight | G11: =SUM(G2:G10) -> 627
A12: Other Kit Weight | C12: =[1]Kit!B28 -> 2519 | E12: Other Kit Weight | G12: =[1]Kit!B28 -> 2519
A13: Total | C13: =C12+C11+C24+C35+G11+G24+G35+C45+E46 -> 6195 | D13: =SUM(D2:D10) -> 2595 | E13: Total | G13: =G12+G11+G24+G35+C45 -> 4246 | H13: =SUM(H2:H11) -> 2844
A14: Day 2 Meal | B14: Food | C14: Weight (g) | D14: Calorie Content | E14: Day 5 Meal | F14: Food | G14: Weight (g) | H14: Calorie Content
A15: Breakfast | B15: Pro Bar Core Bar | C15: 89 | D15: 370 | E15: Snack | F15: Tuc cheese sandwich | G15: 50 | H15: 300
A16: Snack | B16: Tracker Bar | C16: 27 | D16: 127 | E16: Snack | F16: Salted Nuts | G16: 103 | H16: 819
A17: Snack | B17: Tuna Snack | C17: 96 | D17: 140 | E17: Recovery | F17: *Protein Shake | G17: 82
A18: Snack | B18: Brazil, Macadamia and Almond Nut Mix | C18: 101 | D18: 684 | E18: Dinner | F18: Chicken Tikka | G18: 188 | H18: 907
A19: Snack | B19: Eat Natural Bar | C19: 50 | D19: 231 | F19: Werthers/Licorice | G19: 50
A20: Snack | B20: Peperami | C20: 28 | D20: 126
A21: Snack | B21: Biltong | C21: 51 | D21: 120
A22: Recovery | B22: *Protein Shake | C22: 77
A23: Dinner | B23: Mac n Cheese | C23: 171 | D23: 875
A24: Food Weight | C24: =SUM(C15:C23) -> 690 | E24: Food Weight | G24: =SUM(G15:G20) -> 473
A25: Other Kit Weight | C25: =[1]Kit!B28 -> 2519 | E25: Other Kit Weight | G25: =[1]Kit!B28 -> 2519
A26: Total | C26: =C25+C24+C35+G11+G24+G35+C45 -> 5545 | D26: =SUM(D15:D24) -> 2673 | E26: Total | G26: =G25+G24+G35+C45 -> 3619 | H26: =SUM(H15:H25) -> 2026
A27: Day 3 Meal | B27: Food | C27: Weight (g) | D27: Calorie Content | E27: Day 6 Meal | F27: Food | G27: Weight (g) | H27: Calorie Content
A28: Breakfast | B28: Muesli Mix | C28: 100 | D28: 484 | E28: Breakfast | F28: Pro Bar Core Bar | G28: 85 | H28: 370
A29: Snack | B29: Tracker Bar | C29: 25 | D29: 127 | E29: Snack | F29: Pulsin Vanilla Choc Bar | G29: 52 | H29: 225
A30: Snack | B30: Brazil, Macadamia and Almond Nut Mix | C30: 100 | D30: 684 | E30: Snack | F30: Brazil, Macadamia and Almond Nut Mix | G30: 100 | H30: 684
A31: Snack | B31: Sea Salt Almonds | C31: 83 | D31: 550 | E31: Snack | F31: Peperami | G31: 28 | H31: 126
A32: Snack | B32: Peperami | C32: 28 | D32: 126 | E32: Snack | F32: Tracker Bar | G32: 28 | H32: 127
A33: Recovery | B33: *Protein Shake | C33: 80 | E33: Dinner | F33: M&M's | G33: 81 | H33: 408
A34: Dinner | B34: Mountain House Potato, Salmon & Dill | C34: 193 | D34: 1115 | E34: Snack | F34: Pretzels | G34: 81 | H34: 380
A35: Food Weight | C35: =SUM(C28:C34) -> 609 | E35: Food Weight | G35: =SUM(G28:G33) -> 374
A36: Other Kit Weight | C36: =[1]Kit!B28 -> 2519 | E36: Other Kit Weight | G36: =[1]Kit!B28 -> 2519
A37: Total | C37: =C36+C35+G11+G24+G35+C45 -> 4855 | D37: =SUM(D28:D35) -> 3086 | E37: Total | G37: =G36+G35+C45 -> 3146 | H37: =SUM(H28:H35) -> 2320
A38: Day 7 Meal | B38: Food | C38: Weight (g) | D38: Calorie Content
A39: Breakfast | B39: Flapjack | C39: 123 | D39: 550 | F39: Day | G39: Weight (Kg) | H39: Calorie Content
A40: Snack | B40: Pork Scratchings | C40: 74 | D40: 990 | F40: 1 | G40: =C13/1000 -> 6.195 | H40: =SUM(D13+D26+D37+H13+H26+H37+D47) -> 17557
...
